BEGIN:VCALENDAR
VERSION:2.0
PRODID:-//wp-events-plugin.com//7.2.3.1//EN
TZID:America/Chicago
X-WR-TIMEZONE:America/Chicago
BEGIN:VEVENT
UID:39@che.nelson.wisc.edu
DTSTART;TZID=America/Chicago:20260506T170000
DTEND;TZID=America/Chicago:20260506T180000
DTSTAMP:20260420T151918Z
URL:https://che.nelson.wisc.edu/events/death-of-a-glacier-film-screening-a
 nd-discussion/
SUMMARY:'Death of a Glacier' Film Screening and Discussion
DESCRIPTION:This event will feature a screening of Death of a Glacier\, a f
 ilm by Ethan Parrish\, a 2024 graduate of the UW-Madison geoscience PhD pr
 ogram\, and Andrew Jones\, a geoscience PhD candidate.
LOCATION:Marquee Cinema\, Union South\, 1308 W. Dayton Street\, Madison\, U
 nited States
X-APPLE-STRUCTURED-LOCATION;VALUE=URI;X-ADDRESS=1308 W. Dayton Street\, Mad
 ison\, United States;X-APPLE-RADIUS=100;X-TITLE=Marquee Cinema\, Union Sou
 th:geo:0,0
END:VEVENT
BEGIN:VTIMEZONE
TZID:America/Chicago
X-LIC-LOCATION:America/Chicago
BEGIN:DAYLIGHT
DTSTART:20260308T030000
TZOFFSETFROM:-0600
TZOFFSETTO:-0500
TZNAME:CDT
END:DAYLIGHT
END:VTIMEZONE
END:VCALENDAR