BEGIN:VCALENDAR
VERSION:2.0
PRODID:-//wp-events-plugin.com//7.2.3.1//EN
TZID:America/Chicago
X-WR-TIMEZONE:America/Chicago
BEGIN:VEVENT
UID:38@che.nelson.wisc.edu
DTSTART;TZID=America/Chicago:20260505T170000
DTEND;TZID=America/Chicago:20260505T190000
DTSTAMP:20260415T182252Z
URL:https://che.nelson.wisc.edu/events/che-end-of-year-event-2/
SUMMARY:CHE End-of-Year Event
DESCRIPTION:Help celebrate the end of the spring semester and conclusion of
  the academic year. The event will be catered by Cantina.
END:VEVENT
BEGIN:VTIMEZONE
TZID:America/Chicago
X-LIC-LOCATION:America/Chicago
BEGIN:DAYLIGHT
DTSTART:20260308T030000
TZOFFSETFROM:-0600
TZOFFSETTO:-0500
TZNAME:CDT
END:DAYLIGHT
END:VTIMEZONE
END:VCALENDAR